BEGIN:VCALENDAR
VERSION:2.0
PRODID:-//Shellharbour Sharks - ECPv6.15.20//NONSGML v1.0//EN
CALSCALE:GREGORIAN
METHOD:PUBLISH
X-WR-CALNAME:Shellharbour Sharks
X-ORIGINAL-URL:https://shellharboursharksjuniors.com
X-WR-CALDESC:Events for Shellharbour Sharks
REFRESH-INTERVAL;VALUE=DURATION:PT1H
X-Robots-Tag:noindex
X-PUBLISHED-TTL:PT1H
BEGIN:VTIMEZONE
TZID:Australia/Sydney
BEGIN:STANDARD
TZOFFSETFROM:+1100
TZOFFSETTO:+1000
TZNAME:AEST
DTSTART:20250405T160000
END:STANDARD
BEGIN:DAYLIGHT
TZOFFSETFROM:+1000
TZOFFSETTO:+1100
TZNAME:AEDT
DTSTART:20251004T160000
END:DAYLIGHT
BEGIN:STANDARD
TZOFFSETFROM:+1100
TZOFFSETTO:+1000
TZNAME:AEST
DTSTART:20260404T160000
END:STANDARD
BEGIN:DAYLIGHT
TZOFFSETFROM:+1000
TZOFFSETTO:+1100
TZNAME:AEDT
DTSTART:20261003T160000
END:DAYLIGHT
BEGIN:STANDARD
TZOFFSETFROM:+1100
TZOFFSETTO:+1000
TZNAME:AEST
DTSTART:20270403T160000
END:STANDARD
BEGIN:DAYLIGHT
TZOFFSETFROM:+1000
TZOFFSETTO:+1100
TZNAME:AEDT
DTSTART:20271002T160000
END:DAYLIGHT
END:VTIMEZONE
BEGIN:VEVENT
DTSTART;VALUE=DATE:20260530
DTEND;VALUE=DATE:20260531
DTSTAMP:20260420T020516
CREATED:20260209T141509Z
LAST-MODIFIED:20260209T141509Z
UID:530-1780099200-1780185599@shellharboursharksjuniors.com
SUMMARY:Round 6 (Boys & Girls)
DESCRIPTION:
URL:https://shellharboursharksjuniors.com/event/round-6-boys-girls/
END:VEVENT
BEGIN:VEVENT
DTSTART;VALUE=DATE:20260523
DTEND;VALUE=DATE:20260524
DTSTAMP:20260420T020516
CREATED:20260209T141448Z
LAST-MODIFIED:20260209T141448Z
UID:528-1779494400-1779580799@shellharboursharksjuniors.com
SUMMARY:Round 5 (Boys & Girls)
DESCRIPTION:
URL:https://shellharboursharksjuniors.com/event/round-5-boys-girls/
END:VEVENT
BEGIN:VEVENT
DTSTART;VALUE=DATE:20260516
DTEND;VALUE=DATE:20260517
DTSTAMP:20260420T020516
CREATED:20260209T141428Z
LAST-MODIFIED:20260209T141428Z
UID:526-1778889600-1778975999@shellharboursharksjuniors.com
SUMMARY:Round 4 (Boys & Girls)
DESCRIPTION:
URL:https://shellharboursharksjuniors.com/event/round-4-boys-girls/
END:VEVENT
BEGIN:VEVENT
DTSTART;VALUE=DATE:20260509
DTEND;VALUE=DATE:20260510
DTSTAMP:20260420T020516
CREATED:20260209T141351Z
LAST-MODIFIED:20260209T141351Z
UID:524-1778284800-1778371199@shellharboursharksjuniors.com
SUMMARY:Round 3 (Boys & Girls)
DESCRIPTION:
URL:https://shellharboursharksjuniors.com/event/round-3/
END:VEVENT
BEGIN:VEVENT
DTSTART;VALUE=DATE:20260502
DTEND;VALUE=DATE:20260503
DTSTAMP:20260420T020516
CREATED:20260209T141303Z
LAST-MODIFIED:20260209T141303Z
UID:521-1777680000-1777766399@shellharboursharksjuniors.com
SUMMARY:Round 2 (Boys & Girls)
DESCRIPTION:
URL:https://shellharboursharksjuniors.com/event/round-2-boys-girls/
END:VEVENT
BEGIN:VEVENT
DTSTART;VALUE=DATE:20260425
DTEND;VALUE=DATE:20260426
DTSTAMP:20260420T020516
CREATED:20260209T141155Z
LAST-MODIFIED:20260209T141211Z
UID:518-1777075200-1777161599@shellharboursharksjuniors.com
SUMMARY:No Games (Anzac Day)
DESCRIPTION:
URL:https://shellharboursharksjuniors.com/event/no-game-anzac-day/
END:VEVENT
BEGIN:VEVENT
DTSTART;VALUE=DATE:20260419
DTEND;VALUE=DATE:20260420
DTSTAMP:20260420T020516
CREATED:20260209T125545Z
LAST-MODIFIED:20260209T125711Z
UID:488-1776556800-1776643199@shellharboursharksjuniors.com
SUMMARY:Mini's Season Start
DESCRIPTION:Gala day for ages U6-U9 \nLocations and Draw to be advised
URL:https://shellharboursharksjuniors.com/event/minis-season-start/
END:VEVENT
BEGIN:VEVENT
DTSTART;VALUE=DATE:20260418
DTEND;VALUE=DATE:20260419
DTSTAMP:20260420T020516
CREATED:20260209T125512Z
LAST-MODIFIED:20260209T141054Z
UID:485-1776470400-1776556799@shellharboursharksjuniors.com
SUMMARY:Season Starts for Boys & Girls!
DESCRIPTION:For ages U10+ \nDraw to be advised by Group 7
URL:https://shellharboursharksjuniors.com/event/season-starts/
END:VEVENT
BEGIN:VEVENT
DTSTART;VALUE=DATE:20260315
DTEND;VALUE=DATE:20260316
DTSTAMP:20260420T020516
CREATED:20260209T125427Z
LAST-MODIFIED:20260209T125427Z
UID:482-1773532800-1773619199@shellharboursharksjuniors.com
SUMMARY:Trials vs Thirroul
DESCRIPTION:For all ages \nDraw to be advised
URL:https://shellharboursharksjuniors.com/event/trials-vs-thirroul/
END:VEVENT
BEGIN:VEVENT
DTSTART;VALUE=DATE:20260314
DTEND;VALUE=DATE:20260315
DTSTAMP:20260420T020516
CREATED:20260209T125341Z
LAST-MODIFIED:20260209T125341Z
UID:479-1773446400-1773532799@shellharboursharksjuniors.com
SUMMARY:Sharks Shootout
DESCRIPTION:Ron Costello Oval \nHosted by Sharks RLFC \nGreat day of footy – come on down to cheer on the Sharks !
URL:https://shellharboursharksjuniors.com/event/sharks-shootout/
END:VEVENT
BEGIN:VEVENT
DTSTART;VALUE=DATE:20260307
DTEND;VALUE=DATE:20260308
DTSTAMP:20260420T020516
CREATED:20260209T125203Z
LAST-MODIFIED:20260209T125203Z
UID:476-1772841600-1772927999@shellharboursharksjuniors.com
SUMMARY:Trials vs Corrimal
DESCRIPTION:For select teams only \nDraw to be advised
URL:https://shellharboursharksjuniors.com/event/trials-vs-corrimal/
END:VEVENT
BEGIN:VEVENT
DTSTART;VALUE=DATE:20260302
DTEND;VALUE=DATE:20260309
DTSTAMP:20260420T020516
CREATED:20260209T125114Z
LAST-MODIFIED:20260209T125114Z
UID:473-1772409600-1773014399@shellharboursharksjuniors.com
SUMMARY:Official Training Starts
DESCRIPTION:All teams and all ages officially kick off training from this date – 2026 training schedule to be confirmed – Stay tune to our socials !
URL:https://shellharboursharksjuniors.com/event/official-training-starts/
END:VEVENT
BEGIN:VEVENT
DTSTART;TZID=Australia/Sydney:20260228T090000
DTEND;TZID=Australia/Sydney:20260228T120000
DTSTAMP:20260420T020516
CREATED:20260209T124931Z
LAST-MODIFIED:20260209T124931Z
UID:470-1772269200-1772280000@shellharboursharksjuniors.com
SUMMARY:Season Launch Day
DESCRIPTION:Ron Costello Oval\, Shellharbour  \nFor all Registered Players
URL:https://shellharboursharksjuniors.com/event/season-launch-day/
END:VEVENT
BEGIN:VEVENT
DTSTART;TZID=Australia/Sydney:20260225T183000
DTEND;TZID=Australia/Sydney:20260225T200000
DTSTAMP:20260420T020516
CREATED:20260209T124715Z
LAST-MODIFIED:20260209T124715Z
UID:468-1772044200-1772049600@shellharboursharksjuniors.com
SUMMARY:Volunteers Meeting
DESCRIPTION:Anna Watson Pavilion @ Ron Costello Oval\, Shellharbour Meeting for all volunteers – coaches\, team managers\, first aiders & Committee Members
URL:https://shellharboursharksjuniors.com/event/volunteers-meeting/
END:VEVENT
END:VCALENDAR