BEGIN:VCALENDAR
VERSION:2.0
PRODID:-//Shellharbour Sharks - ECPv6.15.20//NONSGML v1.0//EN
CALSCALE:GREGORIAN
METHOD:PUBLISH
X-ORIGINAL-URL:https://shellharboursharksjuniors.com
X-WR-CALDESC:Events for Shellharbour Sharks
REFRESH-INTERVAL;VALUE=DURATION:PT1H
X-Robots-Tag:noindex
X-PUBLISHED-TTL:PT1H
BEGIN:VTIMEZONE
TZID:Australia/Sydney
BEGIN:STANDARD
TZOFFSETFROM:+1100
TZOFFSETTO:+1000
TZNAME:AEST
DTSTART:20250405T160000
END:STANDARD
BEGIN:DAYLIGHT
TZOFFSETFROM:+1000
TZOFFSETTO:+1100
TZNAME:AEDT
DTSTART:20251004T160000
END:DAYLIGHT
BEGIN:STANDARD
TZOFFSETFROM:+1100
TZOFFSETTO:+1000
TZNAME:AEST
DTSTART:20260404T160000
END:STANDARD
BEGIN:DAYLIGHT
TZOFFSETFROM:+1000
TZOFFSETTO:+1100
TZNAME:AEDT
DTSTART:20261003T160000
END:DAYLIGHT
BEGIN:STANDARD
TZOFFSETFROM:+1100
TZOFFSETTO:+1000
TZNAME:AEST
DTSTART:20270403T160000
END:STANDARD
BEGIN:DAYLIGHT
TZOFFSETFROM:+1000
TZOFFSETTO:+1100
TZNAME:AEDT
DTSTART:20271002T160000
END:DAYLIGHT
END:VTIMEZONE
BEGIN:VEVENT
DTSTART;VALUE=DATE:20260822
DTEND;VALUE=DATE:20260823
DTSTAMP:20260420T020608
CREATED:20260209T142040Z
LAST-MODIFIED:20260209T142040Z
UID:554-1787356800-1787443199@shellharboursharksjuniors.com
SUMMARY:Round 16 (Boys)
DESCRIPTION:
URL:https://shellharboursharksjuniors.com/event/round-16-boys/
END:VEVENT
BEGIN:VEVENT
DTSTART;VALUE=DATE:20260822
DTEND;VALUE=DATE:20260823
DTSTAMP:20260420T020608
CREATED:20260209T142251Z
LAST-MODIFIED:20260209T142251Z
UID:558-1787356800-1787443199@shellharboursharksjuniors.com
SUMMARY:Preliminary Final (Girls)
DESCRIPTION:
URL:https://shellharboursharksjuniors.com/event/preliminary-final-girls/
END:VEVENT
BEGIN:VEVENT
DTSTART;VALUE=DATE:20260829
DTEND;VALUE=DATE:20260831
DTSTAMP:20260420T020608
CREATED:20260209T142355Z
LAST-MODIFIED:20260209T142355Z
UID:560-1787961600-1788134399@shellharboursharksjuniors.com
SUMMARY:Grand Final (Girls)
DESCRIPTION:@ WIN Stadium
URL:https://shellharboursharksjuniors.com/event/grand-final-girls/
END:VEVENT
BEGIN:VEVENT
DTSTART;VALUE=DATE:20260829
DTEND;VALUE=DATE:20260831
DTSTAMP:20260420T020608
CREATED:20260209T142430Z
LAST-MODIFIED:20260209T142430Z
UID:563-1787961600-1788134399@shellharboursharksjuniors.com
SUMMARY:Semi Final (Boys)
DESCRIPTION:
URL:https://shellharboursharksjuniors.com/event/semi-final-boys/
END:VEVENT
BEGIN:VEVENT
DTSTART;VALUE=DATE:20260905
DTEND;VALUE=DATE:20260906
DTSTAMP:20260420T020608
CREATED:20260209T142500Z
LAST-MODIFIED:20260209T142500Z
UID:565-1788566400-1788652799@shellharboursharksjuniors.com
SUMMARY:Preliminary Final (Boys)
DESCRIPTION:
URL:https://shellharboursharksjuniors.com/event/preliminary-final-boys/
END:VEVENT
BEGIN:VEVENT
DTSTART;VALUE=DATE:20260912
DTEND;VALUE=DATE:20260914
DTSTAMP:20260420T020608
CREATED:20260209T142551Z
LAST-MODIFIED:20260209T142551Z
UID:567-1789171200-1789343999@shellharboursharksjuniors.com
SUMMARY:Grand Final (Boys)
DESCRIPTION:@ WIN Stadium\n(Day to be confirmed)
URL:https://shellharboursharksjuniors.com/event/grand-final-boys/
END:VEVENT
END:VCALENDAR