BEGIN:VCALENDAR
VERSION:2.0
PRODID:-//Shellharbour Sharks - ECPv6.15.20//NONSGML v1.0//EN
CALSCALE:GREGORIAN
METHOD:PUBLISH
X-WR-CALNAME:Shellharbour Sharks
X-ORIGINAL-URL:https://shellharboursharksjuniors.com
X-WR-CALDESC:Events for Shellharbour Sharks
REFRESH-INTERVAL;VALUE=DURATION:PT1H
X-Robots-Tag:noindex
X-PUBLISHED-TTL:PT1H
BEGIN:VTIMEZONE
TZID:Australia/Sydney
BEGIN:STANDARD
TZOFFSETFROM:+1100
TZOFFSETTO:+1000
TZNAME:AEST
DTSTART:20250405T160000
END:STANDARD
BEGIN:DAYLIGHT
TZOFFSETFROM:+1000
TZOFFSETTO:+1100
TZNAME:AEDT
DTSTART:20251004T160000
END:DAYLIGHT
BEGIN:STANDARD
TZOFFSETFROM:+1100
TZOFFSETTO:+1000
TZNAME:AEST
DTSTART:20260404T160000
END:STANDARD
BEGIN:DAYLIGHT
TZOFFSETFROM:+1000
TZOFFSETTO:+1100
TZNAME:AEDT
DTSTART:20261003T160000
END:DAYLIGHT
BEGIN:STANDARD
TZOFFSETFROM:+1100
TZOFFSETTO:+1000
TZNAME:AEST
DTSTART:20270403T160000
END:STANDARD
BEGIN:DAYLIGHT
TZOFFSETFROM:+1000
TZOFFSETTO:+1100
TZNAME:AEDT
DTSTART:20271002T160000
END:DAYLIGHT
END:VTIMEZONE
BEGIN:VEVENT
DTSTART;VALUE=DATE:20260704
DTEND;VALUE=DATE:20260705
DTSTAMP:20260420T003259
CREATED:20260209T141722Z
LAST-MODIFIED:20260209T141722Z
UID:540-1783123200-1783209599@shellharboursharksjuniors.com
SUMMARY:Round 10 (Boys & Girls)
DESCRIPTION:
URL:https://shellharboursharksjuniors.com/event/round-10-boys-girls/
END:VEVENT
BEGIN:VEVENT
DTSTART;VALUE=DATE:20260711
DTEND;VALUE=DATE:20260712
DTSTAMP:20260420T003259
CREATED:20260209T141751Z
LAST-MODIFIED:20260209T141751Z
UID:542-1783728000-1783814399@shellharboursharksjuniors.com
SUMMARY:No Games (School Holidays)
DESCRIPTION:
URL:https://shellharboursharksjuniors.com/event/no-games-school-holidays/
END:VEVENT
BEGIN:VEVENT
DTSTART;VALUE=DATE:20260718
DTEND;VALUE=DATE:20260719
DTSTAMP:20260420T003259
CREATED:20260209T141823Z
LAST-MODIFIED:20260209T141823Z
UID:544-1784332800-1784419199@shellharboursharksjuniors.com
SUMMARY:Round 11 (Boys & Girls)
DESCRIPTION:
URL:https://shellharboursharksjuniors.com/event/round-11-boys-girls/
END:VEVENT
BEGIN:VEVENT
DTSTART;VALUE=DATE:20260725
DTEND;VALUE=DATE:20260726
DTSTAMP:20260420T003259
CREATED:20260209T141841Z
LAST-MODIFIED:20260209T141841Z
UID:546-1784937600-1785023999@shellharboursharksjuniors.com
SUMMARY:Round 12 (Boys & Girls)
DESCRIPTION:
URL:https://shellharboursharksjuniors.com/event/round-12-boys-girls/
END:VEVENT
END:VCALENDAR